BEGIN:VCALENDAR
VERSION:2.0
PRODID:icalendar-ruby
CALSCALE:GREGORIAN
METHOD:PUBLISH
BEGIN:VEVENT
DTSTAMP:20260425T200824Z
UID:5-488880@benvenuechurch.org
DTSTART:20261011T143000Z
DTEND:20261011T153000Z
CLASS:PUBLIC
CREATED:20260425T140056
DESCRIPTION:Sunday Worship
LAST-MODIFIED:20260425T140056
LOCATION:
SUMMARY:Sunday Worship
URL;VALUE=URI:https://www.benvenuechurch.org/events/sunday-worship/2026-10-
 11
END:VEVENT
END:VCALENDAR
