BEGIN:VCALENDAR
VERSION:2.0
PRODID:icalendar-ruby
CALSCALE:GREGORIAN
METHOD:PUBLISH
BEGIN:VEVENT
DTSTAMP:20260425T173054Z
UID:5-488485@benvenuechurch.org
DTSTART:20260927T143000Z
DTEND:20260927T153000Z
CLASS:PUBLIC
CREATED:20260425T112100
DESCRIPTION:Sunday Worship
LAST-MODIFIED:20260425T112100
LOCATION:
SUMMARY:Sunday Worship
URL;VALUE=URI:https://www.benvenuechurch.org/events/sunday-worship/2026-09-
 27
END:VEVENT
END:VCALENDAR
