BEGIN:VCALENDAR
VERSION:2.0
PRODID:icalendar-ruby
CALSCALE:GREGORIAN
METHOD:PUBLISH
BEGIN:VEVENT
DTSTAMP:20260425T144429Z
UID:5-488090@benvenuechurch.org
DTSTART:20260913T143000Z
DTEND:20260913T153000Z
CLASS:PUBLIC
CREATED:20260425T084004
DESCRIPTION:Sunday Worship
LAST-MODIFIED:20260425T084004
LOCATION:
SUMMARY:Sunday Worship
URL;VALUE=URI:https://www.benvenuechurch.org/events/sunday-worship/2026-09-
 13
END:VEVENT
END:VCALENDAR
