BEGIN:VCALENDAR
VERSION:2.0
PRODID:icalendar-ruby
CALSCALE:GREGORIAN
METHOD:PUBLISH
BEGIN:VEVENT
DTSTAMP:20260425T103232Z
UID:5-487694@benvenuechurch.org
DTSTART:20260823T143000Z
DTEND:20260823T153000Z
CLASS:PUBLIC
CREATED:20260424T225701
DESCRIPTION:Sunday Worship
LAST-MODIFIED:20260424T225701
LOCATION:
SUMMARY:Sunday Worship
URL;VALUE=URI:https://www.benvenuechurch.org/events/sunday-worship/2026-08-
 23
END:VEVENT
END:VCALENDAR
