BEGIN:VCALENDAR
VERSION:2.0
PRODID:icalendar-ruby
CALSCALE:GREGORIAN
METHOD:PUBLISH
BEGIN:VEVENT
DTSTAMP:20260425T234349Z
UID:6-489713@benvenuechurch.org
DTSTART:20261105T000000Z
DTEND:20261105T010000Z
CLASS:PUBLIC
CREATED:20260425T192538
DESCRIPTION:Join us as we come together each week to spend time in prayer!
LAST-MODIFIED:20260425T192538
LOCATION:
SUMMARY:One Voice: Corporate Prayer Gathering
URL;VALUE=URI:https://www.benvenuechurch.org/events/one-voice-corporate-pra
 yer-gathering/2026-11-04
ATTACH;FILENAME=Prayer-Meeting-Announcement-%281%29.png;FMTTYPE=image/png:h
 ttps://dq5pwpg1q8ru0.cloudfront.net/2025/12/17/16/25/58/d4ea4f60-0f5e-4688
 -b94f-2e6435a1f3c8/Prayer-Meeting-Announcement-%25281%2529.png
END:VEVENT
END:VCALENDAR
