BEGIN:VCALENDAR
VERSION:2.0
PRODID:icalendar-ruby
CALSCALE:GREGORIAN
METHOD:PUBLISH
BEGIN:VEVENT
DTSTAMP:20260424T114731Z
UID:56-430665@benvenuechurch.org
DTSTART:20260524T210000Z
DTEND:20260524T220000Z
CLASS:PUBLIC
CREATED:20260331T130815
DESCRIPTION:
LAST-MODIFIED:20260331T130815
LOCATION:
SUMMARY:Mission Night
URL;VALUE=URI:https://www.benvenuechurch.org/events/mission-night--56/2026-
 05-24
ATTACH;FILENAME=Mission.png;FMTTYPE=image/png:https://dq5pwpg1q8ru0.cloudfr
 ont.net/2026/03/31/17/08/15/2d782f7a-b16d-4061-a6f0-38230bb63d8d/Mission.p
 ng
END:VEVENT
END:VCALENDAR
