BEGIN:VCALENDAR
VERSION:2.0
PRODID:icalendar-ruby
CALSCALE:GREGORIAN
METHOD:PUBLISH
BEGIN:VEVENT
DTSTAMP:20260424T103011Z
UID:47-430656@benvenuechurch.org
DTSTART:20260426T210000Z
DTEND:20260426T220000Z
CLASS:PUBLIC
CREATED:20260331T125944
DESCRIPTION:
LAST-MODIFIED:20260331T125944
LOCATION:
SUMMARY:Mission Night
URL;VALUE=URI:https://www.benvenuechurch.org/events/mission-night--47/2026-
 04-26
ATTACH;FILENAME=Mission.png;FMTTYPE=image/png:https://dq5pwpg1q8ru0.cloudfr
 ont.net/2026/03/31/16/59/44/0f171efa-122a-4622-bc90-9082b4a313a1/Mission.p
 ng
END:VEVENT
END:VCALENDAR
