BEGIN:VCALENDAR
VERSION:2.0
PRODID:icalendar-ruby
CALSCALE:GREGORIAN
METHOD:PUBLISH
BEGIN:VEVENT
DTSTAMP:20260424T103929Z
UID:53-430662@benvenuechurch.org
DTSTART:20260516T140000Z
DTEND:20260516T160000Z
CLASS:PUBLIC
CREATED:20260331T130507
DESCRIPTION:
LAST-MODIFIED:20260331T130507
LOCATION:
SUMMARY:Intercessory Prayer
URL;VALUE=URI:https://www.benvenuechurch.org/events/intercessory-prayer--53
 /2026-05-16
ATTACH;FILENAME=Intercessory-Prayer-2025-%282%29.png;FMTTYPE=image/png:http
 s://dq5pwpg1q8ru0.cloudfront.net/2026/03/31/17/05/06/abc1ad28-8d9f-4fb6-8f
 fa-0eefbfb9aa36/Intercessory-Prayer-2025-%25282%2529.png
END:VEVENT
END:VCALENDAR
