BEGIN:VCALENDAR
VERSION:2.0
PRODID:icalendar-ruby
CALSCALE:GREGORIAN
METHOD:PUBLISH
BEGIN:VEVENT
DTSTAMP:20260424T103751Z
UID:48-430657@benvenuechurch.org
DTSTART:20260501T220000Z
DTEND:20260502T000000Z
CLASS:PUBLIC
CREATED:20260331T130109
DESCRIPTION:
LAST-MODIFIED:20260331T130109
LOCATION:
SUMMARY:Fish Fry
URL;VALUE=URI:https://www.benvenuechurch.org/events/fish-fry/2026-05-01
ATTACH;FILENAME=Fish-Fry.png;FMTTYPE=image/png:https://dq5pwpg1q8ru0.cloudf
 ront.net/2026/03/31/17/01/08/fed58d62-5269-4ba8-9e86-3a70274120a9/Fish-Fry
 .png
END:VEVENT
END:VCALENDAR
