BEGIN:VCALENDAR
VERSION:2.0
PRODID:icalendar-ruby
CALSCALE:GREGORIAN
METHOD:PUBLISH
BEGIN:VEVENT
DTSTAMP:20260424T104102Z
UID:51-430660@benvenuechurch.org
DTSTART:20260515T210000Z
DTEND:20260516T000000Z
CLASS:PUBLIC
CREATED:20260331T130320
DESCRIPTION:
LAST-MODIFIED:20260331T130320
LOCATION:
SUMMARY:Family Game Night
URL;VALUE=URI:https://www.benvenuechurch.org/events/family-game-night--51/2
 026-05-15
ATTACH;FILENAME=Game-Night-Announcement-%281%29.png;FMTTYPE=image/png:https
 ://dq5pwpg1q8ru0.cloudfront.net/2026/03/31/17/03/19/fc537482-67c5-491a-bbf
 4-4000c270db6b/Game-Night-Announcement-%25281%2529.png
END:VEVENT
END:VCALENDAR
