BEGIN:VCALENDAR
VERSION:2.0
PRODID:icalendar-ruby
CALSCALE:GREGORIAN
METHOD:PUBLISH
BEGIN:VEVENT
DTSTAMP:20260424T114155Z
UID:58-430667@benvenuechurch.org
DTSTART:20260530T140000Z
DTEND:20260530T160000Z
CLASS:PUBLIC
CREATED:20260331T130948
DESCRIPTION:
LAST-MODIFIED:20260331T130948
LOCATION:
SUMMARY:Drive-Thru Prayer
URL;VALUE=URI:https://www.benvenuechurch.org/events/drive-thru-prayer--58/2
 026-05-30
ATTACH;FILENAME=drive-thru-prayer-enter-here-%28Presentation%29-%281%29.png
 ;FMTTYPE=image/png:https://dq5pwpg1q8ru0.cloudfront.net/2026/03/31/17/09/4
 7/ed2bf2a4-b43b-4145-8f93-206fe5bbdd47/drive-thru-prayer-enter-here-%2528P
 resentation%2529-%25281%2529.png
END:VEVENT
END:VCALENDAR
