BEGIN:VCALENDAR
VERSION:2.0
PRODID:icalendar-ruby
CALSCALE:GREGORIAN
METHOD:PUBLISH
BEGIN:VEVENT
DTSTAMP:20260424T114322Z
UID:55-430664@benvenuechurch.org
DTSTART;VALUE=DATE:20260520
DTEND;VALUE=DATE:20260520
CLASS:PUBLIC
CREATED:20260331T130730
DESCRIPTION:
LAST-MODIFIED:20260331T130730
LOCATION:
SUMMARY:Day of Prayer & Fasting
URL;VALUE=URI:https://www.benvenuechurch.org/events/day-of-prayer-fasting--
 55/2026-05-20
ATTACH;FILENAME=2025-Bible-Memory%2C-Prayer%2C-Salvations-%26-Care-Ministry
 -Announcement-Slides-%286%29.png;FMTTYPE=image/png:https://dq5pwpg1q8ru0.c
 loudfront.net/2026/03/31/17/07/30/575d4f02-7d4a-49a3-b52e-c47fa2abfebd/202
 5-Bible-Memory%252C-Prayer%252C-Salvations-%2526-Care-Ministry-Announcemen
 t-Slides-%25286%2529.png
END:VEVENT
END:VCALENDAR
