BEGIN:VCALENDAR
VERSION:2.0
PRODID:icalendar-ruby
CALSCALE:GREGORIAN
METHOD:PUBLISH
BEGIN:VEVENT
DTSTAMP:20260424T104255Z
UID:50-430659@benvenuechurch.org
DTSTART:20260508T210000Z
DTEND:20260509T000000Z
CLASS:PUBLIC
CREATED:20260331T130230
DESCRIPTION:
LAST-MODIFIED:20260331T130230
LOCATION:
SUMMARY:Canasta Night
URL;VALUE=URI:https://www.benvenuechurch.org/events/canasta-night--50/2026-
 05-08
ATTACH;FILENAME=Canasta-Night-Announcement.png;FMTTYPE=image/png:https://dq
 5pwpg1q8ru0.cloudfront.net/2026/03/31/17/02/30/dd944a0a-7e80-460f-abff-6cd
 b9e5f3c88/Canasta-Night-Announcement.png
END:VEVENT
END:VCALENDAR
